BEGIN:VCALENDAR
VERSION:2.0
PRODID:-//ddaysoftware.com//NONSGML DDay.iCal 1.0//EN
BEGIN:VEVENT
CLASS:PUBLIC
CREATED:20260425T143824
DESCRIPTION:Die Irish Folk-Band Tone Fish gastiert auf Sylt und wollen den 
 Kursaal in Rantum zum kochen bringen.
DTSTAMP:20260425T143824
DTSTART:20240403T200000
LOCATION:Kursaal Rantum\\, Rantum
SEQUENCE:0
SUMMARY:Tone Fish – Irish Folk
UID:5b82e087-843b-4f68-bf6d-72e31d1080f1
URL:https://www.sylt-unterkunft.de/Veranstaltungen-Sylt/Tone-Fish-Irish-Fol
 k-Sylt.htm
END:VEVENT
END:VCALENDAR
